BEGIN:VCALENDAR
VERSION:2.0
PRODID:-//eventon.com NONSGML v1.0//EN
BEGIN:VEVENT
UID:69ea79ad2b6a3
DTSTAMP:20260423T215733
DTSTART:20161226T070000Z
DTEND:20161226T180000Z
LOCATION:Akalla Vandagatan 3
SUMMARY:Annandag Jul: Öppet 09.00-20.00
DESCRIPTION: Annandag Jul: Öppet 09.00-20.00
END:VEVENT
END:VCALENDAR