BEGIN:VCALENDAR
VERSION:2.0
PRODID:-//eventon.com NONSGML v1.0//EN
BEGIN:VEVENT
UID:69ea669ee5568
DTSTAMP:20260423T203614
DTSTART:20231226T070000Z
DTEND:20231226T180000Z
LOCATION:Akalla Vandagatan 3
SUMMARY:Annandag Jul: Öppet 09.00-20.00
DESCRIPTION: Annandag Jul: Öppet 09.00-20.00
END:VEVENT
END:VCALENDAR