BEGIN:VCALENDAR
VERSION:2.0
PRODID:-//eventon.com NONSGML v1.0//EN
BEGIN:VEVENT
UID:69eb77d8604ce
DTSTAMP:20260424T160200
DTSTART:20200410T070000Z
DTEND:20200410T180000Z
LOCATION:Akalla Vandagatan 3
SUMMARY:Långfredagen: Öppet 09.00-20.00
DESCRIPTION: Långfredagen: Öppet 09.00-20.00
END:VEVENT
END:VCALENDAR