BEGIN:VCALENDAR
VERSION:2.0
PRODID:-//eventon.com NONSGML v1.0//EN
BEGIN:VEVENT
UID:69e6c04e64b91
DTSTAMP:20260421T020950
DTSTART:20200411T070000Z
DTEND:20200411T180000Z
LOCATION:Akalla Vandagatan 3
SUMMARY:Påskafton: Öppet 09.00-20.00
DESCRIPTION: Påskafton: Öppet 09.00-20.00
END:VEVENT
END:VCALENDAR