BEGIN:VCALENDAR
VERSION:2.0
PRODID:-//eventon.com NONSGML v1.0//EN
BEGIN:VEVENT
UID:69e8a9d9d0984
DTSTAMP:20260422T125833
DTSTART:20210606T070000Z
DTEND:20210606T180000Z
LOCATION:Solna Banvaktsvägen 20
SUMMARY:Sveriges Nationaldag/Svenska Flaggans Dag: Öppet 09.00-20.00
DESCRIPTION: Sveriges Nationaldag/Svenska Flaggans Dag: Öppet 09.00-20.00
END:VEVENT
END:VCALENDAR