BEGIN:VCALENDAR
VERSION:2.0
PRODID:-//eventon.com NONSGML v1.0//EN
BEGIN:VEVENT
UID:69e5d010a560a
DTSTAMP:20260420T090448
DTSTART:20170106T070000Z
DTEND:20170106T180000Z
LOCATION:Solna Banvaktsvägen 20
SUMMARY:Trettondedag Jul: Öppet 09.00-20.00
DESCRIPTION: Trettondedag Jul: Öppet 09.00-20.00
END:VEVENT
END:VCALENDAR