BEGIN:VCALENDAR
VERSION:2.0
PRODID:-//eventon.com NONSGML v1.0//EN
BEGIN:VEVENT
UID:69eca6a7554c0
DTSTAMP:20260425T133359
DTSTART:20210106T070000Z
DTEND:20210106T180000Z
LOCATION:Solna Banvaktsvägen 20
SUMMARY:Trettondedag Jul: Öppet 09.00-20.00
DESCRIPTION: Trettondedag Jul: Öppet 09.00-20.00
END:VEVENT
END:VCALENDAR