BEGIN:VCALENDAR
VERSION:2.0
PRODID:-//eventon.com NONSGML v1.0//EN
BEGIN:VEVENT
UID:69ed623280e13
DTSTAMP:20260426T025410
DTSTART:20220106T070000Z
DTEND:20220106T180000Z
LOCATION:Solna Banvaktsvägen 20
SUMMARY:Trettondedag Jul: Öppet 09.00-20.00
DESCRIPTION: Trettondedag Jul: Öppet 09.00-20.00
END:VEVENT
END:VCALENDAR