BEGIN:VCALENDAR
VERSION:2.0
PRODID:-//eventon.com NONSGML v1.0//EN
BEGIN:VEVENT
UID:69e5bbc9900ed
DTSTAMP:20260420T073817
DTSTART:20250106T070000Z
DTEND:20250106T180000Z
LOCATION:Solna Banvaktsvägen 20
SUMMARY:Trettondedag Jul: Öppet 09.00-20.00
DESCRIPTION: Trettondedag Jul: Öppet 09.00-20.00
END:VEVENT
END:VCALENDAR