BEGIN:VCALENDAR
VERSION:2.0
PRODID:-//eventon.com NONSGML v1.0//EN
BEGIN:VEVENT
UID:69e6abc246b49
DTSTAMP:20260421T004210
DTSTART:20201224T060000Z
DTEND:20201224T200000Z
LOCATION:Solna Banvaktsvägen 20
SUMMARY:Julafton: Stängt
DESCRIPTION: Juldagen: Stängt
END:VEVENT
END:VCALENDAR