BEGIN:VCALENDAR
VERSION:2.0
PRODID:-//eventon.com NONSGML v1.0//EN
BEGIN:VEVENT
UID:69ed24411adde
DTSTAMP:20260425T222953
DTSTART:20161230T220000Z
DTEND:20161231T215900Z
LOCATION:Uppsala Rapsgatan 8
SUMMARY:Nyårsafton: Stängt
DESCRIPTION: Nyårsafton: Stängt
END:VEVENT
END:VCALENDAR