BEGIN:VCALENDAR
VERSION:2.0
PRODID:-//eventon.com NONSGML v1.0//EN
BEGIN:VEVENT
UID:69ed115d587a9
DTSTAMP:20260425T210917
DTSTART:20211230T220000Z
DTEND:20211231T215900Z
LOCATION:Uppsala Rapsgatan 8
SUMMARY:Nyårsafton: Stängt
DESCRIPTION: Nyårsafton: Stängt
END:VEVENT
END:VCALENDAR