BEGIN:VCALENDAR
VERSION:2.0
PRODID:-//eventon.com NONSGML v1.0//EN
BEGIN:VEVENT
UID:69eba20faa6de
DTSTAMP:20260424T190207
DTSTART:20210501T080000Z
DTEND:20210501T180000Z
LOCATION:Uppsala Rapsgatan 8
SUMMARY:Första Maj: Öppet 10.00-20.00
DESCRIPTION: Första Maj: Öppet 10.00-20.00
END:VEVENT
END:VCALENDAR