BEGIN:VCALENDAR
VERSION:2.0
PRODID:-//eventon.com NONSGML v1.0//EN
BEGIN:VEVENT
UID:69ebe32d85e2b
DTSTAMP:20260424T233957
DTSTART:20220501T080000Z
DTEND:20220501T180000Z
LOCATION:Västerås Kraftlinjegatan 4
SUMMARY:Första Maj: Öppet 10.00-20.00
DESCRIPTION: Första Maj: Öppet 10.00-20.00
END:VEVENT
END:VCALENDAR